BEGIN:VCALENDAR
VERSION:2.0
PRODID:-//wp-events-plugin.com//7.2.3.1//EN
TZID:Europe/Zurich
X-WR-TIMEZONE:Europe/Zurich
BEGIN:VEVENT
UID:545@sac-saas.ch
DTSTART;TZID=Europe/Zurich;VALUE=DATE:20260321
DTEND;TZID=Europe/Zurich;VALUE=DATE:20260322
DTSTAMP:20260320T132850Z
URL:https://sac-saas.ch/events/skitour-grappatour-anmeldung-ab-20-02-2026/
SUMMARY:Skitour Grappatour / Anmeldung ab 20.02.2026
DESCRIPTION:Die Skitour wird von Hugo und Diana geleitet und findet im Simp
 longebiet statt mit anschliessendem Mittagessen "Gsottus" in Simplondorf.\
 n\nDetails für die Grappa Tour vom Samstag:\nSkitour: Diana\, Irene\, Bri
 gitte und Hugo\nGenus: Germano 1 und 2 Philiberta\, Fidelis und Robi.\nFid
 elis ist bereits oben.\nChauffeur: Robi\nTreffpunkt Skitour: 8.30 Uhr Simp
 lon Restaurant Monte Leone.\n\nTreffpunkt 12.00 Uhr für alle Restaurant S
 implon Dorf zum APERO. Anschliessend Mittagessen.\n\nPreis Mittagessen: CH
 F 51.--\n\nPreis Getränke: wird auf die Teilnehmer aufgeteilt\n\nTourente
 ilnehmerbeitrag: CHF 15.--\n\nFahrkostenanteil\n\nWeitere Details folgen k
 urz vor der Skitour auf diesem Kanal. Es wird keine Whatsapp Gruppe erstel
 lt.\n\n\n\nAnmeldung ab:\n20.02.2026\n\n\nSchwierigkeit\nWS\n\n\nEckdaten\
 nca. 800 hm im Aufstieg und Abfahrt\n\n\nAusrüstung\nSkitourenausrüstung
  komplett\n\n\nTreffpunkt\nwird noch bekanntgegeben\n\n\nTeilnehmerzahl\n1
 0 inkl. Tourenleiter\n\n\n\n&nbsp\;
CATEGORIES:SAC Tour,Skitour
END:VEVENT
BEGIN:VTIMEZONE
TZID:Europe/Zurich
X-LIC-LOCATION:Europe/Zurich
BEGIN:STANDARD
DTSTART:20251026T020000
TZOFFSETFROM:+0200
TZOFFSETTO:+0100
TZNAME:CET
END:STANDARD
END:VTIMEZONE
END:VCALENDAR