BEGIN:VCALENDAR
VERSION:2.0
PRODID:-//wp-events-plugin.com//7.2.3.1//EN
TZID:Europe/Zurich
X-WR-TIMEZONE:Europe/Zurich
BEGIN:VEVENT
UID:417@sac-saas.ch
DTSTART;TZID=Europe/Zurich:20250202T070000
DTEND;TZID=Europe/Zurich:20250202T170000
DTSTAMP:20250201T165751Z
URL:https://sac-saas.ch/events/skitour-grappatour-anmeldung-ab-13-01-2025/
SUMMARY:Skitour Grappatour mit anschliessender Kulinarik/ Tour findet statt
DESCRIPTION:Die Tour findet definitiv im Simplongebiet statt.\n\nStart: 08.
 30 Uhr  beim Rest. Monte Leone\, Simplonpass\n\nFelle: montiert\n\nAuto O
 skar: Saastal\n\nAuto Hugo: Brigitte\, Hugo\, Irene\n\nAuto Robi: Geniesse
 rgruppe\n\nRosemarie: organisiert sich selber\n\nDiana und Fidelis: sind b
 ereits vor Ort\n\nMittagessen: ab 12.00 Uhr im Molinari in Simplondorf\n\
 nMittagessen: CHF 50.00 p/Person\n\nGetränke: die Kosten werden auf die T
 eilnehmer aufgeteilt\n\nTransportkosten: laut Reglement\n\nFotograf: Brigi
 tte\n\nBericht: Osci\n\nBitte gute Laune und viel Witz und Charme mitbring
 en\n\n&nbsp\;\n\n\n\n\n\n\n\nSchwierigkeit\nWS\n\n\nEckdaten\n700 hm\n\n\n
 Ausrüstung\nSkitourenausrüstung komplett\n\n\nTreffpunkt\nStart: 08.30 U
 hr  beim Rest. Monte Leone\, Simplonpass\n\n\nTeilnehmerzahl\n10\n\n\n\n&
 nbsp\;
CATEGORIES:SAC Tour,Skitour
END:VEVENT
BEGIN:VTIMEZONE
TZID:Europe/Zurich
X-LIC-LOCATION:Europe/Zurich
BEGIN:STANDARD
DTSTART:20241027T020000
TZOFFSETFROM:+0200
TZOFFSETTO:+0100
TZNAME:CET
END:STANDARD
END:VTIMEZONE
END:VCALENDAR