BEGIN:VCALENDAR
VERSION:2.0
PRODID:-//wp-events-plugin.com//7.2.3.1//EN
TZID:Europe/Zurich
X-WR-TIMEZONE:Europe/Zurich
BEGIN:VEVENT
UID:106@sac-saas.ch
DTSTART;TZID=Europe/Zurich;VALUE=DATE:20230225
DTEND;TZID=Europe/Zurich;VALUE=DATE:20230226
DTSTAMP:20230221T150650Z
URL:https://sac-saas.ch/events/skitour-gletscherspitza/
SUMMARY:Skitour Gletscherspitza / Anmeldung ab 10.02.2023
DESCRIPTION:&nbsp\;\n\n\n\nAnmeldung möglich ab:\n10.02.2023\, 07:00\n\n\n
 Schwierigkeit\nZS+\n\n\nEckdaten\n ↑ 1500 Hm  ↓ 1500 Hm\n\n\nAusrüs
 tung\nSkitourenausrüstung komplett inkl Harscheisen\n\n\nTreffpunkt\nwird
  bekannt gegeben\n\n\nTeilnehmerzahl\n6 inkl TL\n\n\n\nMuss nicht immer ei
 n Gipfel sein: eine Interessante Skitour im Schatten des Lötschentaler Br
 eithorns. Tourenziel ist der Sattel zwischen Gletscherspitza und Breithorn
 . Einzig erlaubte Skitour im eidgenössischen Jagdbanngebiet Bietschhorn.\
 n\nVon Blatten  folgen wir auf der für Skilanglauf und Winterwandern pr
 äparierten Strasse Richtung Fafleralp bis P. 1674\, wo wir die Lonza übe
 rqueren. Weiter in südöstlicher Richtung den Grosse Loibinbachgraben que
 rend bis ca. 2000 m\, wo man eine Steilstufe östlich passiert. Danach sü
 dwärts weitere Gräben querend und zunehmend steiler\, P. 2086 östlich p
 assierend\, hinauf unter den Loibinbachgletscher. Auf ca. 2480 m umgeht ma
 n eine Steilstufe südwestlich. Man erreicht eine Aussichtsterrase auf ca.
  2600 m am Westrand des Loibinbachgletschers. Man traversiert hinüber auf
  den spaltenarmen Gletscher und folgt diesem bis zum Sattel zwischen der G
 letscherspitza und der N-Wand des Lötschentaler Breithorns.
CATEGORIES:SAC Tour,Skitour
END:VEVENT
BEGIN:VTIMEZONE
TZID:Europe/Zurich
X-LIC-LOCATION:Europe/Zurich
BEGIN:STANDARD
DTSTART:20221030T020000
TZOFFSETFROM:+0200
TZOFFSETTO:+0100
TZNAME:CET
END:STANDARD
END:VTIMEZONE
END:VCALENDAR