BEGIN:VCALENDAR
VERSION:2.0
PRODID:-//wp-events-plugin.com//7.2.3.1//EN
TZID:Europe/Zurich
X-WR-TIMEZONE:Europe/Zurich
BEGIN:VEVENT
UID:333@sac-saas.ch
DTSTART;TZID=Europe/Zurich;VALUE=DATE:20240310
DTEND;TZID=Europe/Zurich;VALUE=DATE:20240311
DTSTAMP:20240309T203802Z
URL:https://sac-saas.ch/events/skitour-gletscherspitza-anmeldung-ab-20-02-
 2024/
SUMMARY:Skitour Gletscherspitza / Anmeldung ab 20.02.2024 /Abgesagt
DESCRIPTION:&nbsp\;\n\n\n\n\n\n\n\nSchwierigkeit\nZS+\n\n\nEckdaten\n1500HM
 \, 4:30 h\n\n\nAusrüstung\nSkitouren komplett\, Harscheisen\, Helm\n\n\nT
 reffpunkt\nwird bekannt gegeben\n\n\nTeilnehmerzahl\n6\, inkl TL\n\n\n\nAb
 gesagt\n\nInteressante Skitour im Schatten des Lötschentaler Breithorns. 
 Tourenziel ist der Sattel zwischen Gletscherspitza und Breithorn. Einzig e
 rlaubte Skitour im eidgenössischen Jagdbanngebiet Bietschorn.
CATEGORIES:SAC Tour
END:VEVENT
BEGIN:VTIMEZONE
TZID:Europe/Zurich
X-LIC-LOCATION:Europe/Zurich
BEGIN:STANDARD
DTSTART:20231029T020000
TZOFFSETFROM:+0200
TZOFFSETTO:+0100
TZNAME:CET
END:STANDARD
END:VTIMEZONE
END:VCALENDAR