BEGIN:VCALENDAR
VERSION:2.0
PRODID:-//wp-events-plugin.com//7.2.3.1//EN
TZID:Europe/Zurich
X-WR-TIMEZONE:Europe/Zurich
BEGIN:VEVENT
UID:313@sac-saas.ch
DTSTART;TZID=Europe/Zurich;VALUE=DATE:20240206
DTEND;TZID=Europe/Zurich;VALUE=DATE:20240207
DTSTAMP:20240203T134557Z
URL:https://sac-saas.ch/events/skitour-gizifurggu-leukerbad-anmeldung-ab-0
 6-jan-24-2/
SUMMARY:Skitour Gizifurggu-Leukerbad /Anmeldung ab.06.Jan.24
DESCRIPTION:Text\n\n\n\nAnmeldung möglich ab:\n06.Jan.24\n\n\nSchwierigkei
 t\nWS\n\n\nEckdaten\nAufstieg 600Hm Abfahrt 1850\n\n\nAusrüstung\nTourena
 usrüstung komplett\n\n\nTreffpunkt\nwird vor der Tour bekannt gegeben\n\n
 \nTeilnehmerzahl\n7\n\n\n\nBei Fragen Auskunft unter der Nr.079 284 32 31
CATEGORIES:SAC Tour
END:VEVENT
BEGIN:VTIMEZONE
TZID:Europe/Zurich
X-LIC-LOCATION:Europe/Zurich
BEGIN:STANDARD
DTSTART:20231029T020000
TZOFFSETFROM:+0200
TZOFFSETTO:+0100
TZNAME:CET
END:STANDARD
END:VTIMEZONE
END:VCALENDAR