BEGIN:VCALENDAR
VERSION:2.0
PRODID:-//wp-events-plugin.com//7.2.3.1//EN
TZID:Europe/Zurich
X-WR-TIMEZONE:Europe/Zurich
BEGIN:VEVENT
UID:465@sac-saas.ch
DTSTART;TZID=Europe/Zurich;VALUE=DATE:20250304
DTEND;TZID=Europe/Zurich;VALUE=DATE:20250305
DTSTAMP:20250216T183831Z
URL:https://sac-saas.ch/events/skitour-gitzifurggu-leukerbad-anmeldung-ab-
 04-02-2025-2/
SUMMARY:Skitour Gitzifurggu-Leukerbad / Anmeldung ab 04.02.2025
DESCRIPTION:&nbsp\;\n\n\n\n\n\n\n\nSchwierigkeit\nWS lange Abfahrt\n\n\nEck
 daten\nAufstieg 600Hm /Abfahrt 1840Hm\n\n\nAusrüstung\nSkitourenausrüstu
 ng komplett\n\n\nTreffpunkt\nwird 2 Tage vor der Tour bekannt gegeben\n\n\
 nTeilnehmerzahl\n2TL und 6Personen\n\n\n\nGA /Halbtax /Skipass oder Magic 
 Pass  nicht vergessen\n\nJe nach Wetter und Schneeverhältnissen kann die
  Tour angepasst werden\n\nAuskunft geben die TL Theo und Mario
CATEGORIES:SAC Tour
END:VEVENT
BEGIN:VTIMEZONE
TZID:Europe/Zurich
X-LIC-LOCATION:Europe/Zurich
BEGIN:STANDARD
DTSTART:20241027T020000
TZOFFSETFROM:+0200
TZOFFSETTO:+0100
TZNAME:CET
END:STANDARD
END:VTIMEZONE
END:VCALENDAR