BEGIN:VCALENDAR
VERSION:2.0
PRODID:-//wp-events-plugin.com//7.2.3.1//EN
TZID:Europe/Zurich
X-WR-TIMEZONE:Europe/Zurich
BEGIN:VEVENT
UID:506@sac-saas.ch
DTSTART;TZID=Europe/Zurich;VALUE=DATE:20260309
DTEND;TZID=Europe/Zurich;VALUE=DATE:20260310
DTSTAMP:20260121T165151Z
URL:https://sac-saas.ch/events/skitour-gitzifurggu-anmeldung-ab-09-02-2026
 /
SUMMARY:Skitour Gitzifurggu / Anmeldung ab 09.02.2026
DESCRIPTION:&nbsp\;\n\n\n\nAnmeldung ab:\n09.02.2026\n\n\nSchwierigkeit\nWS
 \n\n\nEckdaten\nAufstieg 600Hm /Abfahrt 1840Hm\n\n\nAusrüstung\nSkitouren
 ausrüstung\n\n\nTreffpunkt\nWird noch bekannt gegeben\n\n\nTeilnehmerzahl
 \n6 inkl. TL\n\n\n\n&nbsp\;
CATEGORIES:SAC Tour,Skitour
END:VEVENT
BEGIN:VTIMEZONE
TZID:Europe/Zurich
X-LIC-LOCATION:Europe/Zurich
BEGIN:STANDARD
DTSTART:20251026T020000
TZOFFSETFROM:+0200
TZOFFSETTO:+0100
TZNAME:CET
END:STANDARD
END:VTIMEZONE
END:VCALENDAR