BEGIN:VCALENDAR
VERSION:2.0
PRODID:-//wp-events-plugin.com//7.2.3.1//EN
TZID:Europe/Zurich
X-WR-TIMEZONE:Europe/Zurich
BEGIN:VEVENT
UID:73@sac-saas.ch
DTSTART;TZID=Europe/Zurich;VALUE=DATE:20230211
DTEND;TZID=Europe/Zurich;VALUE=DATE:20230212
DTSTAMP:20230204T162307Z
URL:https://sac-saas.ch/events/skitour-ginalshorn/
SUMMARY:Skitour Ginalshorn / Anmeldung ab 11.01.2023
DESCRIPTION:&nbsp\;\n\n\n\nAnmeldung möglich ab:\n11.01.2023\, 07:00\n\n\n
 Schwierigkeit\nWS\n\n\nEckdaten\n ↑ 600 Hm  ↓ 600 Hm -&gt\; x h\n\n\
 nAusrüstung\nSkitourenausrüstung ...\n\n\nTreffpunkt\nRaron Talstation L
 uftseilbahn Eischoll 08:40 Bahn fährt 08:55\n\n\nTeilnehmerzahl\n6\n\n\n\
 n&nbsp\;
CATEGORIES:SAC Tour,Skitour
END:VEVENT
BEGIN:VTIMEZONE
TZID:Europe/Zurich
X-LIC-LOCATION:Europe/Zurich
BEGIN:STANDARD
DTSTART:20221030T020000
TZOFFSETFROM:+0200
TZOFFSETTO:+0100
TZNAME:CET
END:STANDARD
END:VTIMEZONE
END:VCALENDAR