BEGIN:VCALENDAR
VERSION:2.0
PRODID:-//wp-events-plugin.com//7.2.3.1//EN
TZID:Europe/Zurich
X-WR-TIMEZONE:Europe/Zurich
BEGIN:VEVENT
UID:245@sac-saas.ch
DTSTART;TZID=Europe/Zurich;VALUE=DATE:20240309
DTEND;TZID=Europe/Zurich;VALUE=DATE:20240310
DTSTAMP:20240128T085710Z
URL:https://sac-saas.ch/events/skitour-ginalshorn-anmeldung-ab-09-februar-
 2024/
SUMMARY:Skitour Ginalshorn / Anmeldung ab 09. Februar 2024
DESCRIPTION:&nbsp\;\n\n\n\nAnmeldung möglich ab:\n09. Februar 2024\n\n\nSc
 hwierigkeit\nL\n\n\nEckdaten\n ↑ 600 Hm  ↓ 1800 Hm -&gt\; 5 h\n\n\nA
 usrüstung\nkomplette Skitourenausrüstung\n\n\nTreffpunkt\nwird noch beka
 nnt gegeben\n\n\nTeilnehmerzahl\n6 inkl. TL\n\n\n\n&nbsp\;
CATEGORIES:SAC Tour,Skitour
END:VEVENT
BEGIN:VTIMEZONE
TZID:Europe/Zurich
X-LIC-LOCATION:Europe/Zurich
BEGIN:STANDARD
DTSTART:20231029T020000
TZOFFSETFROM:+0200
TZOFFSETTO:+0100
TZNAME:CET
END:STANDARD
END:VTIMEZONE
END:VCALENDAR