BEGIN:VCALENDAR
VERSION:2.0
PRODID:-//wp-events-plugin.com//7.2.3.1//EN
TZID:Europe/Zurich
X-WR-TIMEZONE:Europe/Zurich
BEGIN:VEVENT
UID:599@sac-saas.ch
DTSTART;TZID=Europe/Zurich;VALUE=DATE:20260320
DTEND;TZID=Europe/Zurich;VALUE=DATE:20260321
DTSTAMP:20251208T091010Z
URL:https://sac-saas.ch/events/skitour-galmenhorn-anmeldung-ab-20-02-2026/
SUMMARY:Skitour Galmenhorn / Anmeldung ab 20.02.2026
DESCRIPTION:Galmenhorn 2845 m\nDieser leicht zu besteigende Gipfel muss sic
 h durch die weite Distanz bis zum Staudamm Mattmark verdient werden. Die A
 nstiege führen über die Loipe zum Staudamm und dann auf der linken Seite
  hoch zum Ofental und anschliessend entlang des flachen Westgrades hoch zu
 m Gipfel. Hier können wir die Aussicht von Mondelli bis zum Bietschhorn g
 eniessen und haben hoffentlich eine schöne Firnabfahrt zurück zum Stauda
 mm.\n\n\n&nbsp\;\n\n\n\n\n\nAnmeldung ab:\n20.02.2026\n\n\nSchwierigkeit\n
 WS\n\n\nEckdaten\n1000HM\n\n\nAusrüstung\nSkitour komplett\n\n\nTreffpunk
 t\nParkplatz Zermeiggern\n\n\nTeilnehmerzahl\n5 inkl TL\n\n\n\n&nbsp\;
CATEGORIES:SAC Tour,Skitour
END:VEVENT
BEGIN:VTIMEZONE
TZID:Europe/Zurich
X-LIC-LOCATION:Europe/Zurich
BEGIN:STANDARD
DTSTART:20251026T020000
TZOFFSETFROM:+0200
TZOFFSETTO:+0100
TZNAME:CET
END:STANDARD
END:VTIMEZONE
END:VCALENDAR