BEGIN:VCALENDAR
VERSION:2.0
PRODID:-//wp-events-plugin.com//7.2.3.1//EN
TZID:Europe/Zurich
X-WR-TIMEZONE:Europe/Zurich
BEGIN:VEVENT
UID:171@sac-saas.ch
DTSTART;TZID=Europe/Zurich;VALUE=DATE:20230207
DTEND;TZID=Europe/Zurich;VALUE=DATE:20230208
DTSTAMP:20230205T184447Z
URL:https://sac-saas.ch/events/skitour-fuer-anfaenger-spitzhorli/
SUMMARY:Skitour für Anfänger (Spitzhorli) / Anmeldung ab 07.01.2023
DESCRIPTION:Die Tour ist für Beginner und Anfänger gedacht.\n\nWir werden
   uns  gemütlichen  an die Ausrüstung gewöhnen .\n\nDas Tempo wird d
 en Teilnehmern angepasst.\n\nBei Fragen\, betreff Ausrüstung und Material
  \, kann man mich Anrufen. (079 284 32 31)\n\nDie Tour kann je nach Wetter
  und Schneeverhältnissen ändern.\n\n&nbsp\;\n\n\n\nAnmeldung möglich ab
 :\n07.01.2023\n\n\nSchwierigkeit\nLeicht\n\n\nEckdaten\n ↑ 800 -1000 Hm
   ↓ 800-1000 Hm  ca.2-2.5h\n\n\nAusrüstung\nTourenausrüstung\n\n\nTr
 effpunkt\nwird vor der Tour bekannt gegeben\n\n\nTeilnehmerzahl\n7 inkl.TL
 \n\n\n\nDie Tour muss leider abgesagt werden \, da meine alte Verletzung a
 m Knie wieder ausgebrochen ist.
CATEGORIES:SAC Tour,Skitour
END:VEVENT
BEGIN:VTIMEZONE
TZID:Europe/Zurich
X-LIC-LOCATION:Europe/Zurich
BEGIN:STANDARD
DTSTART:20221030T020000
TZOFFSETFROM:+0200
TZOFFSETTO:+0100
TZNAME:CET
END:STANDARD
END:VTIMEZONE
END:VCALENDAR