BEGIN:VCALENDAR
VERSION:2.0
PRODID:-//wp-events-plugin.com//7.2.3.1//EN
TZID:Europe/Zurich
X-WR-TIMEZONE:Europe/Zurich
BEGIN:VEVENT
UID:170@sac-saas.ch
DTSTART;TZID=Europe/Zurich;VALUE=DATE:20230307
DTEND;TZID=Europe/Zurich;VALUE=DATE:20230308
DTSTAMP:20230201T121220Z
URL:https://sac-saas.ch/events/skitour-fuer-anfaenger-augstbordhorn-anmeld
 ung-ab-07-02-2023-kopieren/
SUMMARY:Skitour für Anfänger (Augstbordhorn) / Anmeldung ab 07.02.2023
DESCRIPTION:&nbsp\;\n\n\n\nAnmeldung möglich ab:\n07.02.2023\, 07:00\n\n\n
 Schwierigkeit\nLeicht\n\n\nEckdaten\n ↑ 980 Hm  ↓980 Hm -&gt\; 2.5 h
 \n\n\nAusrüstung\nTourenausrüstung\n\n\nTreffpunkt\nwird vor der Tour be
 kannt gegeben\n\n\nTeilnehmerzahl\n7 inkl. TL\n\n\n\nDie Tour ist für Beg
 inner und Anfänger gedacht.\n\nAlle die ein gemächliches Tempo lieben si
 nd auch willkommen.\n\nDie Tour wird den Teilnehmer und den Verhältnissen
  angepasst.\n\nBei Fragen kann man mich anrufen.
CATEGORIES:SAC Tour,Skitour
END:VEVENT
BEGIN:VTIMEZONE
TZID:Europe/Zurich
X-LIC-LOCATION:Europe/Zurich
BEGIN:STANDARD
DTSTART:20221030T020000
TZOFFSETFROM:+0200
TZOFFSETTO:+0100
TZNAME:CET
END:STANDARD
END:VTIMEZONE
END:VCALENDAR