BEGIN:VCALENDAR
VERSION:2.0
PRODID:-//wp-events-plugin.com//7.2.3.1//EN
TZID:Europe/Zurich
X-WR-TIMEZONE:Europe/Zurich
BEGIN:VEVENT
UID:233@sac-saas.ch
DTSTART;TZID=Europe/Zurich;VALUE=DATE:20240309
DTEND;TZID=Europe/Zurich;VALUE=DATE:20240310
DTSTAMP:20240128T085451Z
URL:https://sac-saas.ch/events/skitour-ferdenrothorn-anmeldung-ab-24-02-20
 24/
SUMMARY:Skitour Ferdenrothorn / Anmeldung ab 24.02.2024
DESCRIPTION:Text\n\n\n\nAnmeldung möglich ab:\n24.02.2024\n\n\nSchwierigke
 it\nWS\n\n\nEckdaten\n+ 700 HM - 2500 Hm\n\n\nAusrüstung\nSkitourenausrü
 stung kompl.\n\n\nTreffpunkt\nSpäter\n\n\nTeilnehmerzahl\n2 TL / 8 TN\n\n
 \n\n&nbsp\;
CATEGORIES:SAC Tour,Skitour
END:VEVENT
BEGIN:VTIMEZONE
TZID:Europe/Zurich
X-LIC-LOCATION:Europe/Zurich
BEGIN:STANDARD
DTSTART:20231029T020000
TZOFFSETFROM:+0200
TZOFFSETTO:+0100
TZNAME:CET
END:STANDARD
END:VTIMEZONE
END:VCALENDAR