BEGIN:VCALENDAR
VERSION:2.0
PRODID:-//wp-events-plugin.com//7.2.3.1//EN
TZID:Europe/Zurich
X-WR-TIMEZONE:Europe/Zurich
BEGIN:VEVENT
UID:441@sac-saas.ch
DTSTART;TZID=Europe/Zurich;VALUE=DATE:20250330
DTEND;TZID=Europe/Zurich;VALUE=DATE:20250331
DTSTAMP:20250327T062746Z
URL:https://sac-saas.ch/events/skitour-elwertaetsch-anmeldung-ab-28-02-202
 5/
SUMMARY:Abgesagt - Skitour Elwertätsch / Anmeldung ab 28.02.2025
DESCRIPTION:Schöne Skitour im Lötschental. Der Elwertätsch liegt auf der
  Kantonsgrenze Bern-Wallis zwischen dem Gasterental im Norden und dem Löt
 schental in Süden. Die Tour ist landschaftlich abwechslungsreich und biet
 et stets eine prächtige Aussicht auf das Bietschhorn und die Walliser Vie
 rtausender.\n\n\n\n\n\n\n\nSchwierigkeit\nWS-\n\n\nEckdaten\n↑600hm / 
 ↓1800hm\n\n\nAusrüstung\nSkitourenausrüstung\n\n\nTreffpunkt\nfolgt\n\
 n\nTeilnehmerzahl\n6 inkl. TL\n\n\n\n&nbsp\;
CATEGORIES:SAC Tour
END:VEVENT
BEGIN:VTIMEZONE
TZID:Europe/Zurich
X-LIC-LOCATION:Europe/Zurich
BEGIN:STANDARD
DTSTART:20241027T020000
TZOFFSETFROM:+0200
TZOFFSETTO:+0100
TZNAME:CET
END:STANDARD
BEGIN:DAYLIGHT
DTSTART:20250330T030000
TZOFFSETFROM:+0100
TZOFFSETTO:+0200
TZNAME:CEST
END:DAYLIGHT
END:VTIMEZONE
END:VCALENDAR