BEGIN:VCALENDAR
VERSION:2.0
PRODID:-//wp-events-plugin.com//7.2.3.1//EN
TZID:Europe/Zurich
X-WR-TIMEZONE:Europe/Zurich
BEGIN:VEVENT
UID:525@sac-saas.ch
DTSTART;TZID=Europe/Zurich;VALUE=DATE:20260308
DTEND;TZID=Europe/Zurich;VALUE=DATE:20260309
DTSTAMP:20260115T140135Z
URL:https://sac-saas.ch/events/skitour-elwertaetsch-anmeldung-ab-08-02-202
 6/
SUMMARY:Skitour Elwertätsch / Anmeldung ab 08.02.2026
DESCRIPTION:\n\n\nSchöne Skitour in den Berner Alpen im Oberwallis: Der El
 wertätsch liegt auf der Kantonsgrenze Bern-Wallis zwischen dem Gasterenta
 l im Norden und dem Lötschental in Süden. Die Tour auf diesen Berg ist l
 andschaftlich abwechslungsreich und man hat stets eine prächtige Aussicht
  aufs Bietschhorn und auf die Walliser Viertausender.\n\n\n\n\n\n\nAnmeldu
 ng ab:\n08.02.2026\n\n\nSchwierigkeit\nWS\n\n\nEckdaten\n550hm/1800hm\n\n\
 nAusrüstung\nkomplette Skitourenausrüstung\n\n\nTreffpunkt\nfolgt\n\n\nT
 eilnehmerzahl\n6 inkl. TL\n\n\n\n&nbsp\;
CATEGORIES:SAC Tour,Skitour
END:VEVENT
BEGIN:VTIMEZONE
TZID:Europe/Zurich
X-LIC-LOCATION:Europe/Zurich
BEGIN:STANDARD
DTSTART:20251026T020000
TZOFFSETFROM:+0200
TZOFFSETTO:+0100
TZNAME:CET
END:STANDARD
END:VTIMEZONE
END:VCALENDAR