BEGIN:VCALENDAR
VERSION:2.0
PRODID:-//wp-events-plugin.com//7.2.3.1//EN
TZID:Europe/Zurich
X-WR-TIMEZONE:Europe/Zurich
BEGIN:VEVENT
UID:362@sac-saas.ch
DTSTART;TZID=Europe/Zurich;VALUE=DATE:20250302
DTEND;TZID=Europe/Zurich;VALUE=DATE:20250303
DTSTAMP:20250227T164535Z
URL:https://sac-saas.ch/events/skitour-dreizehntenhorn-anmeldung-ab-01-02-
 2025/
SUMMARY:Abgesagt: Skitour Dreizehntenhorn / Anmeldung ab 01.02.2025
DESCRIPTION:Skitour vom Skigebiet Ginals (Unterbäch) auf das Dreizehntenho
 rn\n\n\n\nAnmeldung ab:\n01.02.2025\n\n\nSchwierigkeit\nZS\n\n\nEckdaten\n
 1000 hm\n\n\nAusrüstung\nvollständige Skitourenausrüstung mit Harscheis
 en\n\n\nTreffpunkt\nwird vor der Tour vereinbart (WhatsApp Gruppe)\n\n\nTe
 ilnehmerzahl\n6\n\n\n\n&nbsp\;
CATEGORIES:SAC Tour
END:VEVENT
BEGIN:VTIMEZONE
TZID:Europe/Zurich
X-LIC-LOCATION:Europe/Zurich
BEGIN:STANDARD
DTSTART:20241027T020000
TZOFFSETFROM:+0200
TZOFFSETTO:+0100
TZNAME:CET
END:STANDARD
END:VTIMEZONE
END:VCALENDAR