BEGIN:VCALENDAR
VERSION:2.0
PRODID:-//wp-events-plugin.com//7.2.3.1//EN
TZID:Europe/Zurich
X-WR-TIMEZONE:Europe/Zurich
BEGIN:VEVENT
UID:69@sac-saas.ch
DTSTART;TZID=Europe/Zurich;VALUE=DATE:20221223
DTEND;TZID=Europe/Zurich;VALUE=DATE:20221224
DTSTAMP:20221220T160350Z
URL:https://sac-saas.ch/events/skitour-dents-de-morcles/
SUMMARY:Skitour Dents de Morcles / Anmeldung ab 27.11.2022
DESCRIPTION:Wegen den ungünstigen Bedingungen und dem schlechten Wetter wi
 rd die Tour leider abgesagt.\n\nWir fahren zusammen bis Ovronnaz und nehme
 n zuerst die Bahn zum Col de Forcle. Auf dem Gipfel geniessen wir die sch
 öne Aussicht bis zum Genfersee. Danach finden wir hoffentlich die beste A
 bfahrt.\n\n\n\nAnmeldung möglich ab:\n27.11.2022\, 07:00\n\n\nSchwierigke
 it\nWS+\n\n\nEckdaten\n ↑ 1000 Hm  ↓ 1600 Hm\n\n\nAusrüstung\nSkito
 urenausrüstung mit Harscheisen\n\n\nTreffpunkt\nwird vereinbart\n\n\nTeil
 nehmerzahl\n6 TN inkl. TL\n\n\n\n&nbsp\;
CATEGORIES:SAC Tour,Skitour
END:VEVENT
BEGIN:VTIMEZONE
TZID:Europe/Zurich
X-LIC-LOCATION:Europe/Zurich
BEGIN:STANDARD
DTSTART:20221030T020000
TZOFFSETFROM:+0200
TZOFFSETTO:+0100
TZNAME:CET
END:STANDARD
END:VTIMEZONE
END:VCALENDAR