BEGIN:VCALENDAR
VERSION:2.0
PRODID:-//wp-events-plugin.com//7.2.3.1//EN
TZID:Europe/Zurich
X-WR-TIMEZONE:Europe/Zurich
BEGIN:VEVENT
UID:507@sac-saas.ch
DTSTART;TZID=Europe/Zurich;VALUE=DATE:20260223
DTEND;TZID=Europe/Zurich;VALUE=DATE:20260224
DTSTAMP:20260221T111455Z
URL:https://sac-saas.ch/events/skitour-cresta-biwak-anmeldung-ab-23-01-202
 6/
SUMMARY:Änderung der Skitour Cresta Biwak / Anmeldung ab 23.01.2026
DESCRIPTION:Wegen dem vielen Schnee geht es anstatt zum Cresta Biwak ins Bi
 nntal\n\n\n\nAnmeldung ab:\n23.01.2026\n\n\nSchwierigkeit\nWS+\n\n\nEckdat
 en\nWir trefffen uns um 08.00 Uhr in Fäld im Binntal\, die Tour führt un
 s in Richtung Stockhorn\, 700hm\n\n\nAusrüstung\nSkitourenausrüstung\n\n
 \nTreffpunkt\nFäld\n\n\nTeilnehmerzahl\n6 inkl.TL\n\n\n\n&nbsp\;
CATEGORIES:SAC Tour,Skitour
END:VEVENT
BEGIN:VTIMEZONE
TZID:Europe/Zurich
X-LIC-LOCATION:Europe/Zurich
BEGIN:STANDARD
DTSTART:20251026T020000
TZOFFSETFROM:+0200
TZOFFSETTO:+0100
TZNAME:CET
END:STANDARD
END:VTIMEZONE
END:VCALENDAR