BEGIN:VCALENDAR
VERSION:2.0
PRODID:-//wp-events-plugin.com//7.2.3.1//EN
TZID:Europe/Zurich
X-WR-TIMEZONE:Europe/Zurich
BEGIN:VEVENT
UID:67@sac-saas.ch
DTSTART;TZID=Europe/Zurich;VALUE=DATE:20230318
DTEND;TZID=Europe/Zurich;VALUE=DATE:20230319
DTSTAMP:20230316T204147Z
URL:https://sac-saas.ch/events/skitour-chly-chastelhorn/
SUMMARY:Skitour Chly Chastelhorn / Anmeldung ab 18.02.2023
DESCRIPTION:Ab Münster durch den Wald hoch zur Galmihornhütte. Danach üb
 er Treichbode zum Chly Chastelhorn 2683m. Abfahrt via Aufstieg nach Münst
 er.\n\n\n\nAnmeldung möglich ab:\n18.02.2023\, 07:00\n\n\nSchwierigkeit\n
 WS\n\n\nEckdaten\n ↑ 1300 Hm  ↓ 1300 Hm -&gt\; 4 h\n\n\nAusrüstung\
 nSkitourenausrüstung\n\n\nTreffpunkt\nFolgt\n\n\nTeilnehmerzahl\n6 inkl. 
 TL\n\n\n\n&nbsp\;
CATEGORIES:SAC Tour
END:VEVENT
BEGIN:VTIMEZONE
TZID:Europe/Zurich
X-LIC-LOCATION:Europe/Zurich
BEGIN:STANDARD
DTSTART:20221030T020000
TZOFFSETFROM:+0200
TZOFFSETTO:+0100
TZNAME:CET
END:STANDARD
END:VTIMEZONE
END:VCALENDAR