BEGIN:VCALENDAR
VERSION:2.0
PRODID:-//wp-events-plugin.com//7.2.3.1//EN
TZID:Europe/Zurich
X-WR-TIMEZONE:Europe/Zurich
BEGIN:VEVENT
UID:72@sac-saas.ch
DTSTART;TZID=Europe/Zurich;VALUE=DATE:20230218
DTEND;TZID=Europe/Zurich;VALUE=DATE:20230219
DTSTAMP:20230216T140035Z
URL:https://sac-saas.ch/events/skitour-camoscellahorn/
SUMMARY:1 Platz frei-Firntour Leukerbad / Anmeldung ab 18.01.2023
DESCRIPTION:Wir fahren nach Leukerbad: dort haben wir verschiedene Möglich
 keiten\, eine schöne Firntour zu machen.\n\n\n\nAnmeldung möglich ab:\n1
 8.01.2023\, 07:00\n\n\nSchwierigkeit\nWS+\n\n\nEckdaten\n ↑ 1200 Hm  -
 &gt\; 5:00 h\n\n\nAusrüstung\nSkitourenausrüstung mit Harscheisen\, Pick
 el und leichte Steigeisen\n\n\nTreffpunkt\n07:45 Uhr\, Parkplatz Schiesssp
 ortzentrum Riedertal bei Visp\n\n\nTeilnehmerzahl\n6 TN inkl. TL\n\n\n\n&n
 bsp\;
CATEGORIES:SAC Tour,Skitour
END:VEVENT
BEGIN:VTIMEZONE
TZID:Europe/Zurich
X-LIC-LOCATION:Europe/Zurich
BEGIN:STANDARD
DTSTART:20221030T020000
TZOFFSETFROM:+0200
TZOFFSETTO:+0100
TZNAME:CET
END:STANDARD
END:VTIMEZONE
END:VCALENDAR