BEGIN:VCALENDAR
VERSION:2.0
PRODID:-//wp-events-plugin.com//7.2.3.1//EN
TZID:Europe/Zurich
X-WR-TIMEZONE:Europe/Zurich
BEGIN:VEVENT
UID:260@sac-saas.ch
DTSTART;TZID=Europe/Zurich;VALUE=DATE:20240217
DTEND;TZID=Europe/Zurich;VALUE=DATE:20240218
DTSTAMP:20240216T122853Z
URL:https://sac-saas.ch/events/skitour-camoscellahorn-anmeldung-ab-17-01-2
 024/
SUMMARY:Skitour Monte Moro / Anmeldung ab 17.01.2024
DESCRIPTION:Zermeiggern - Mattmark - Monte Moro\n\n\n\nAnmeldung möglich a
 b:\n17.01.2024\n\n\nSchwierigkeit\nWS +\n\n\nEckdaten\n1300 hm\n\n\nAusrü
 stung\nkomplette Skitourenausrüstung inkl. Harscheisen\n\n\nTreffpunkt\n0
 7:30 Uhr Parkplatz Zermeiggern\n\n\nTeilnehmerzahl\n6\n\n\n\n&nbsp\;
CATEGORIES:SAC Tour
END:VEVENT
BEGIN:VTIMEZONE
TZID:Europe/Zurich
X-LIC-LOCATION:Europe/Zurich
BEGIN:STANDARD
DTSTART:20231029T020000
TZOFFSETFROM:+0200
TZOFFSETTO:+0100
TZNAME:CET
END:STANDARD
END:VTIMEZONE
END:VCALENDAR