BEGIN:VCALENDAR
VERSION:2.0
PRODID:-//wp-events-plugin.com//7.2.3.1//EN
TZID:Europe/Zurich
X-WR-TIMEZONE:Europe/Zurich
BEGIN:VEVENT
UID:580@sac-saas.ch
DTSTART;TZID=Europe/Zurich;VALUE=DATE:20260116
DTEND;TZID=Europe/Zurich;VALUE=DATE:20260117
DTSTAMP:20251208T091427Z
URL:https://sac-saas.ch/events/skitour-brudelhorn-anmeldung-ab-16-12-2025/
SUMMARY:Skitour Brudelhorn / Anmeldung ab 16.12.2025
DESCRIPTION:Brudelhorn 2791 m\n\n\nVon Geschinen aus geht es durch den Wald
  entlang des Wanderweges hoch. Nach der Waldgrenze hat man einen genialen 
 Blick über das ganze Goms und steigt etwas flacher hoch zum Fuss des Gipf
 els\, ab wo es hoch zum Grat geht und man anschliessend von hinten auf den
  Gipfel steigt.\nJe nach Bedingungen fahren wir der Aufstiegsspur entlang 
 wieder ab (erster Teil weites und abwechslungsreiches Terrain\, Zweiter Te
 il durch den Wald mit verspieltem Gelände) oder fahren runter zum Merezeb
 ach und zurück nach Geschinen\n\n\n\n\n\nAnmeldung ab:\n16.12.2025\n\n\nS
 chwierigkeit\nWS+\n\n\nEckdaten\n1400HM\n\n\nAusrüstung\nSkitour komplett
 \n\n\nTreffpunkt\nGeschinen\n\n\nTeilnehmerzahl\n5 inkl TL\n\n\n\n&nbsp\;
CATEGORIES:SAC Tour,Skitour
END:VEVENT
BEGIN:VTIMEZONE
TZID:Europe/Zurich
X-LIC-LOCATION:Europe/Zurich
BEGIN:STANDARD
DTSTART:20251026T020000
TZOFFSETFROM:+0200
TZOFFSETTO:+0100
TZNAME:CET
END:STANDARD
END:VTIMEZONE
END:VCALENDAR