BEGIN:VCALENDAR
VERSION:2.0
PRODID:-//wp-events-plugin.com//7.2.3.1//EN
TZID:Europe/Zurich
X-WR-TIMEZONE:Europe/Zurich
BEGIN:VEVENT
UID:71@sac-saas.ch
DTSTART;TZID=Europe/Zurich;VALUE=DATE:20230121
DTEND;TZID=Europe/Zurich;VALUE=DATE:20230122
DTSTAMP:20230118T163320Z
URL:https://sac-saas.ch/events/skitour-blashorn/
SUMMARY:Skitour Blashorn / Anmeldung ab 21.12.2022
DESCRIPTION:Die Tour findet statt. Ich erstelle eine WhatsApp Gruppe und in
 formiere über Treffpunkt\, Ort\, Zeit und Tour am Freitagabend.\n\nWir st
 eigen von Ulrichen auf den Gipfel des Blashorns. Für die Abfahrt nehmen w
 ir wahrscheinlich die Route nach Oberwald.\n\n\n\nAnmeldung möglich ab:\n
 21.12.2022\, 07:00\n\n\nSchwierigkeit\nZS\n\n\nEckdaten\n ↑ 1400 Hm  
 ↓ 1400 Hm\n\n\nAusrüstung\nSkitourenausrüstung mit Harscheisen\, Picke
 l und Steigeisen (leicht)\n\n\nTreffpunkt\nwird vereinbart\n\n\nTeilnehmer
 zahl\n6 TN inkl. TL\n\n\n\n&nbsp\;
CATEGORIES:SAC Tour,Skitour
END:VEVENT
BEGIN:VTIMEZONE
TZID:Europe/Zurich
X-LIC-LOCATION:Europe/Zurich
BEGIN:STANDARD
DTSTART:20221030T020000
TZOFFSETFROM:+0200
TZOFFSETTO:+0100
TZNAME:CET
END:STANDARD
END:VTIMEZONE
END:VCALENDAR