BEGIN:VCALENDAR
VERSION:2.0
PRODID:-//wp-events-plugin.com//7.2.3.1//EN
TZID:Europe/Zurich
X-WR-TIMEZONE:Europe/Zurich
BEGIN:VEVENT
UID:258@sac-saas.ch
DTSTART;TZID=Europe/Zurich;VALUE=DATE:20231223
DTEND;TZID=Europe/Zurich;VALUE=DATE:20231224
DTSTAMP:20231121T180452Z
URL:https://sac-saas.ch/events/skitour-blashorn-anmeldung-ab-23-11-2023/
SUMMARY:Skitour Blashorn / Anmeldung ab 23.11.2023
DESCRIPTION:Ulrichen - Blashorn - Oberwald\n\n\n\nAnmeldung möglich ab:\n2
 3.11.2023\n\n\nSchwierigkeit\nZS\n\n\nEckdaten\n1400 hm\n\n\nAusrüstung\n
 komplette Skitourenausrüstung inkl. Harscheisen\, leichte Pickel und Stei
 geisen\n\n\nTreffpunkt\n\n\n\nTeilnehmerzahl\n6\n\n\n\n&nbsp\;
CATEGORIES:SAC Tour
END:VEVENT
BEGIN:VTIMEZONE
TZID:Europe/Zurich
X-LIC-LOCATION:Europe/Zurich
BEGIN:STANDARD
DTSTART:20231029T020000
TZOFFSETFROM:+0200
TZOFFSETTO:+0100
TZNAME:CET
END:STANDARD
END:VTIMEZONE
END:VCALENDAR