BEGIN:VCALENDAR
VERSION:2.0
PRODID:-//wp-events-plugin.com//7.2.3.1//EN
TZID:Europe/Zurich
X-WR-TIMEZONE:Europe/Zurich
BEGIN:VEVENT
UID:579@sac-saas.ch
DTSTART;TZID=Europe/Zurich;VALUE=DATE:20260117
DTEND;TZID=Europe/Zurich;VALUE=DATE:20260118
DTSTAMP:20260104T193342Z
URL:https://sac-saas.ch/events/skitour-binnegga-alpe-fried-anmeldung-ab-17
 -12-2025/
SUMMARY:Skitour\, Binnegga-Alpe Fried/ Anmeldung ab 17.12.2025
DESCRIPTION:&nbsp\;\n\n\n\nAnmeldung ab:\n17.12.2025\n\n\nSchwierigkeit\nWS
 \n\n\nEckdaten\n700 Hm\n\n\nAusrüstung\nSkitourenausrüstung komplett.\n\
 n\nTreffpunkt\nSpäter\n\n\nTeilnehmerzahl\n8 inkl. TL und SL\n\n\n\n&nbsp
 \;
CATEGORIES:SAC Tour,Skitour
END:VEVENT
BEGIN:VTIMEZONE
TZID:Europe/Zurich
X-LIC-LOCATION:Europe/Zurich
BEGIN:STANDARD
DTSTART:20251026T020000
TZOFFSETFROM:+0200
TZOFFSETTO:+0100
TZNAME:CET
END:STANDARD
END:VTIMEZONE
END:VCALENDAR