BEGIN:VCALENDAR
VERSION:2.0
PRODID:-//wp-events-plugin.com//7.2.3.1//EN
TZID:Europe/Zurich
X-WR-TIMEZONE:Europe/Zurich
BEGIN:VEVENT
UID:203@sac-saas.ch
DTSTART;TZID=Europe/Zurich;VALUE=DATE:20240319
DTEND;TZID=Europe/Zurich;VALUE=DATE:20240320
DTSTAMP:20240128T092708Z
URL:https://sac-saas.ch/events/skitour-bella-tola/
SUMMARY:Skitour Bella Tola / Anmeldung ab 01.03.2024
DESCRIPTION:&nbsp\;\n\n\n\nAnmeldung möglich ab:\n19.02.2024\n\n\nSchwieri
 gkeit\nWS\n\n\nEckdaten\n ↑ 380 Hm  ↓ 830 Hm -&gt\; x h\n\n\nAusrüs
 tung\nSkitourenausrüstung\n\n\nTreffpunkt\nSt.Luc\n\n\nTeilnehmerzahl\n5 
 inkl. TL\n\n\n\nSkitour Bella Tola-Märetschialp-Parilet-Illsee
CATEGORIES:SAC Tour,Skitour
END:VEVENT
BEGIN:VTIMEZONE
TZID:Europe/Zurich
X-LIC-LOCATION:Europe/Zurich
BEGIN:STANDARD
DTSTART:20231029T020000
TZOFFSETFROM:+0200
TZOFFSETTO:+0100
TZNAME:CET
END:STANDARD
END:VTIMEZONE
END:VCALENDAR