BEGIN:VCALENDAR
VERSION:2.0
PRODID:-//wp-events-plugin.com//7.2.3.1//EN
TZID:Europe/Zurich
X-WR-TIMEZONE:Europe/Zurich
BEGIN:VEVENT
UID:81@sac-saas.ch
DTSTART;TZID=Europe/Zurich;VALUE=DATE:20230322
DTEND;TZID=Europe/Zurich;VALUE=DATE:20230323
DTSTAMP:20230121T195346Z
URL:https://sac-saas.ch/events/skitour-bella-tola-maeretschialp-parilet-il
 lsee/
SUMMARY:Skitour Bella Tola-Märetschialp-Parilet-Illsee / Anmeldung ab 22.0
 2.2023
DESCRIPTION:&nbsp\;\n\n\n\nAnmeldung möglich ab:\n22.02.2023\, 07:00\n\n\n
 Schwierigkeit\nWS\n\n\nEckdaten\n ↑ 380 Hm  ↓ 830 Hm -&gt\; 5 h\n\n\
 nAusrüstung\nSkitourenausrüstung\n\n\nTreffpunkt\n\n\n\nTeilnehmerzahl\n
 6 inkl. TL\n\n\n\n&nbsp\;
CATEGORIES:SAC Tour,Skitour
END:VEVENT
BEGIN:VTIMEZONE
TZID:Europe/Zurich
X-LIC-LOCATION:Europe/Zurich
BEGIN:STANDARD
DTSTART:20221030T020000
TZOFFSETFROM:+0200
TZOFFSETTO:+0100
TZNAME:CET
END:STANDARD
END:VTIMEZONE
END:VCALENDAR