BEGIN:VCALENDAR
VERSION:2.0
PRODID:-//wp-events-plugin.com//7.2.3.1//EN
TZID:Europe/Zurich
X-WR-TIMEZONE:Europe/Zurich
BEGIN:VEVENT
UID:577@sac-saas.ch
DTSTART;TZID=Europe/Zurich;VALUE=DATE:20260110
DTEND;TZID=Europe/Zurich;VALUE=DATE:20260111
DTSTAMP:20260107T092111Z
URL:https://sac-saas.ch/events/skitour-bella-tola-anmeldung-ab-11-12-25/
SUMMARY:Abgesagt: Skitour Bella Tola/ Anmeldung ab 11.12.25
DESCRIPTION:Wegen Wetter wird diese Tour nicht stattfinden\n\n\n\nAnmeldung
  ab:\n11.12.25\n\n\nSchwierigkeit\n\n\n\nEckdaten\n700 Hm rauf und 900 Hm 
 runter\n\n\nAusrüstung\n\n\n\nTreffpunkt\n\n\n\nTeilnehmerzahl\n6 inkl. T
 L\n\n\n\n&nbsp\;
CATEGORIES:SAC Tour,Skitour
END:VEVENT
BEGIN:VTIMEZONE
TZID:Europe/Zurich
X-LIC-LOCATION:Europe/Zurich
BEGIN:STANDARD
DTSTART:20251026T020000
TZOFFSETFROM:+0200
TZOFFSETTO:+0100
TZNAME:CET
END:STANDARD
END:VTIMEZONE
END:VCALENDAR