BEGIN:VCALENDAR
VERSION:2.0
PRODID:-//wp-events-plugin.com//7.2.3.1//EN
TZID:Europe/Zurich
X-WR-TIMEZONE:Europe/Zurich
BEGIN:VEVENT
UID:392@sac-saas.ch
DTSTART;TZID=Europe/Zurich;VALUE=DATE:20250317
DTEND;TZID=Europe/Zurich;VALUE=DATE:20250318
DTSTAMP:20250224T152847Z
URL:https://sac-saas.ch/events/skitour-bella-tola-2/
SUMMARY:Skitour Bella Tola
DESCRIPTION:Skitour von Bella Tola ins Märetschji\, zum Illsee und wieder 
 zurück in das Skigebiet von St. Luc\n\n\n\n\n\n\n\nSchwierigkeit\nWS\n\n\
 nEckdaten\n\n\n\nAusrüstung\nSkitourenausrüstung\n\n\nTreffpunkt\n08.15 
 St.Luc\n\n\nTeilnehmerzahl\n5 inkl. TL\n\n\n\n&nbsp\;
CATEGORIES:SAC Tour
END:VEVENT
BEGIN:VTIMEZONE
TZID:Europe/Zurich
X-LIC-LOCATION:Europe/Zurich
BEGIN:STANDARD
DTSTART:20241027T020000
TZOFFSETFROM:+0200
TZOFFSETTO:+0100
TZNAME:CET
END:STANDARD
END:VTIMEZONE
END:VCALENDAR