BEGIN:VCALENDAR
VERSION:2.0
PRODID:-//wp-events-plugin.com//7.2.3.1//EN
TZID:Europe/Zurich
X-WR-TIMEZONE:Europe/Zurich
BEGIN:VEVENT
UID:366@sac-saas.ch
DTSTART;TZID=Europe/Zurich;VALUE=DATE:20250216
DTEND;TZID=Europe/Zurich;VALUE=DATE:20250217
DTSTAMP:20241118T161305Z
URL:https://sac-saas.ch/events/skitour-bec-de-la-montau-anmeldung-ab-01-02
 -2025/
SUMMARY:Skitour Bec de la Montau / Anmeldung ab 01.02.2025
DESCRIPTION:&nbsp\;\n\n\n\n\n\n\n\nSchwierigkeit\nWS\n\n\nEckdaten\n1420 HM
  Aufstieg 1420 HM Abfahrt\n\n\nAusrüstung\nSkitourenausrüstung komplett\
 n\n\nTreffpunkt\nwird bekannt gegeben\n\n\nTeilnehmerzahl\n6 inkl TL\n\n\n
 \nSchöner dreieckiger Gipfel auf dem langen Kamm zwischen dem Val d'Hér
 émence und dem Val de Nendaz\, der sich von Thyon bis zur Rosablanche ers
 treckt. Die westliche Seite ist eher steil und felsig\, während die östl
 iche Seite flacher ist und eine lohnende Skitourenroute bietet. Schöne Au
 ssicht auf die Walliser Alpen und die Waadtländer Alpen.
CATEGORIES:SAC Tour
END:VEVENT
BEGIN:VTIMEZONE
TZID:Europe/Zurich
X-LIC-LOCATION:Europe/Zurich
BEGIN:STANDARD
DTSTART:20241027T020000
TZOFFSETFROM:+0200
TZOFFSETTO:+0100
TZNAME:CET
END:STANDARD
END:VTIMEZONE
END:VCALENDAR