BEGIN:VCALENDAR
VERSION:2.0
PRODID:-//wp-events-plugin.com//7.2.3.1//EN
TZID:Europe/Zurich
X-WR-TIMEZONE:Europe/Zurich
BEGIN:VEVENT
UID:624@sac-saas.ch
DTSTART;TZID=Europe/Zurich;VALUE=DATE:20260209
DTEND;TZID=Europe/Zurich;VALUE=DATE:20260210
DTSTAMP:20260205T123240Z
URL:https://sac-saas.ch/events/skitour-auf-col-de-mosses-anmeldung-ab-sofo
 rt/
SUMMARY:Skitour auf Col de Mosses / Anmeldung ab sofort
DESCRIPTION:Wir werden die N-Hänge oberhalb des Col de Mosses erkunden. Es
  stehen mehrere Gipfel zur Auswahl\, wie der Klassiker Pic Chaussy oder Po
 inte de la Chenau.\n\n\n\nAnmeldung ab:\nAnmeldung ab sofort\n\n\nSchwieri
 gkeit\nWS\n\n\nEckdaten\n↑↓ / ↑ ↓ 1300 hm\n\n\nAusrüstung\nSkitou
 renausrüstung komplett\n\n\nTreffpunkt\nWird kommuniziert\n\n\nTeilnehmer
 zahl\n6 inkl. TL\n\n\n\n&nbsp\;
CATEGORIES:SAC Tour
END:VEVENT
BEGIN:VTIMEZONE
TZID:Europe/Zurich
X-LIC-LOCATION:Europe/Zurich
BEGIN:STANDARD
DTSTART:20251026T020000
TZOFFSETFROM:+0200
TZOFFSETTO:+0100
TZNAME:CET
END:STANDARD
END:VTIMEZONE
END:VCALENDAR