BEGIN:VCALENDAR
VERSION:2.0
PRODID:-//wp-events-plugin.com//7.2.3.1//EN
TZID:Europe/Zurich
X-WR-TIMEZONE:Europe/Zurich
BEGIN:VEVENT
UID:275@sac-saas.ch
DTSTART;TZID=Europe/Zurich;VALUE=DATE:20240317
DTEND;TZID=Europe/Zurich;VALUE=DATE:20240319
DTSTAMP:20240314T171413Z
URL:https://sac-saas.ch/events/skitour-arpelistock-le-serac-anmeldung-ab-0
 1-02-2024/
SUMMARY:Änderung Skitour Arpelistock - Le Serac/ Anmeldung ab 01.02.2024
DESCRIPTION:Tourenänderung: Wegen Wetter werden wir die Tour umplanen. Am 
 Sonntag machen wir eine Tagestour in der Rosablanche Region. Für Montag w
 erden wir eine Tour kurzfristitig wetterbedingt plannen\, falls Interesse 
 vorhanden ist.\n\nEs gibt noch Plätze für beide Tage.\n\n\n\nAnmeldung m
 öglich ab:\n01.02.2024\n\n\nSchwierigkeit\nZS\n\n\nEckdaten\n↑ 800 Hm 
 ↓1200Hm\n\n\nAusrüstung\nkomplette Skitourenausrüstung inkl. Harscheis
 en\n\n\nTreffpunkt\nwird bekannt gegeben\n\n\nTeilnehmerzahl\n8 inkl TL un
 d SF\n\n\n\n&nbsp\;
CATEGORIES:SAC Tour,Skitour
END:VEVENT
BEGIN:VTIMEZONE
TZID:Europe/Zurich
X-LIC-LOCATION:Europe/Zurich
BEGIN:STANDARD
DTSTART:20231029T020000
TZOFFSETFROM:+0200
TZOFFSETTO:+0100
TZNAME:CET
END:STANDARD
END:VTIMEZONE
END:VCALENDAR