BEGIN:VCALENDAR
VERSION:2.0
PRODID:-//wp-events-plugin.com//7.2.3.1//EN
TZID:Europe/Zurich
X-WR-TIMEZONE:Europe/Zurich
BEGIN:VEVENT
UID:226@sac-saas.ch
DTSTART;TZID=Europe/Zurich;VALUE=DATE:20240128
DTEND;TZID=Europe/Zurich;VALUE=DATE:20240129
DTSTAMP:20240117T060225Z
URL:https://sac-saas.ch/events/skitour-altstafel-rinderhorn-anmeldung-ab-1
 3-01-2024/
SUMMARY:Skitour Altstafel-Rinderhorn / Anmeldung ab 13.01.2024
DESCRIPTION:&nbsp\;\n\n\n\nAnmeldung möglich ab:\n13.01.24. 07:00\n\n\nSch
 wierigkeit\nWS\n\n\nEckdaten\n ↑ 800 Hm  ↓ 1500 Hm\n\n\nAusrüstung\
 nSkitourenausrüstung Kompl.\n\n\nTreffpunkt\nSpäter\n\n\nTeilnehmerzahl\
 n2 TL . 8 Teilnehmer\n\n\n\n&nbsp\;
CATEGORIES:SAC Tour
END:VEVENT
BEGIN:VTIMEZONE
TZID:Europe/Zurich
X-LIC-LOCATION:Europe/Zurich
BEGIN:STANDARD
DTSTART:20231029T020000
TZOFFSETFROM:+0200
TZOFFSETTO:+0100
TZNAME:CET
END:STANDARD
END:VTIMEZONE
END:VCALENDAR