BEGIN:VCALENDAR
VERSION:2.0
PRODID:-//wp-events-plugin.com//7.2.3.1//EN
TZID:Europe/Zurich
X-WR-TIMEZONE:Europe/Zurich
BEGIN:VEVENT
UID:460@sac-saas.ch
DTSTART;TZID=Europe/Zurich;VALUE=DATE:20250401
DTEND;TZID=Europe/Zurich;VALUE=DATE:20250402
DTSTAMP:20250201T150012Z
URL:https://sac-saas.ch/events/skitour-allalinpass-taeschalpe-taesch-anmel
 dung-ab-01-03-2025/
SUMMARY:Skitour Allalinpass-Täschalpe-Täsch / Anmeldung ab 01.03.2025
DESCRIPTION:&nbsp\;\n\n\n\n\n\n\n\nSchwierigkeit\nWS\n\n\nEckdaten\nAufstie
 g 600hm /Abfahrt 1845Hm\n\n\nAusrüstung\nSkitourenausrüstung komplett /K
 lettergurt /Karabiner /Rebschnur oder Bandschlinge\n\n\nTreffpunkt\nwird 2
 Tage vor der Tour bekannt gegeben\n\n\nTeilnehmerzahl\n2TL und 6Personen\n
 \n\n\nDie Tour für über den Gletscher zum Allalinpass. runter zur Täsch
 alpe\n\nDie Tour kann je nach Schnee und Wetterverhältnissen Angepasst we
 rden.\n\nAuskunft geben die TL Theo und Mario\n\n&nbsp\;
CATEGORIES:SAC Tour,Skitour
END:VEVENT
BEGIN:VTIMEZONE
TZID:Europe/Zurich
X-LIC-LOCATION:Europe/Zurich
BEGIN:DAYLIGHT
DTSTART:20250330T030000
TZOFFSETFROM:+0100
TZOFFSETTO:+0200
TZNAME:CEST
END:DAYLIGHT
END:VTIMEZONE
END:VCALENDAR