BEGIN:VCALENDAR
VERSION:2.0
PRODID:-//wp-events-plugin.com//7.2.3.1//EN
TZID:Europe/Zurich
X-WR-TIMEZONE:Europe/Zurich
BEGIN:VEVENT
UID:321@sac-saas.ch
DTSTART;TZID=Europe/Zurich;VALUE=DATE:20240402
DTEND;TZID=Europe/Zurich;VALUE=DATE:20240403
DTSTAMP:20240308T192234Z
URL:https://sac-saas.ch/events/skitour-allalinpass-taesch-anmeldung-02-mae
 rz-24/
SUMMARY:Skitour Allalinpass -Täsch Anmeldung 02.März 24
DESCRIPTION:Text\n\n\n\nAnmeldung möglich ab:\n02.März.24\n\n\nSchwierigk
 eit\nWS\n\n\nEckdaten\nAufstieg 600Hm Abfahrt 1850Hm\n\n\nAusrüstung\nTou
 renausrüstung komplett\n\n\nTreffpunkt\nWird vor der Tour bekannt gegeben
 \n\n\nTeilnehmerzahl\n2TL Theo und Mario und 6Teilnehmer\n\n\n\n&nbsp\;
CATEGORIES:SAC Tour,Skitour
END:VEVENT
BEGIN:VTIMEZONE
TZID:Europe/Zurich
X-LIC-LOCATION:Europe/Zurich
BEGIN:DAYLIGHT
DTSTART:20240331T030000
TZOFFSETFROM:+0100
TZOFFSETTO:+0200
TZNAME:CEST
END:DAYLIGHT
END:VTIMEZONE
END:VCALENDAR