BEGIN:VCALENDAR
VERSION:2.0
PRODID:-//wp-events-plugin.com//7.2.3.1//EN
TZID:Europe/Zurich
X-WR-TIMEZONE:Europe/Zurich
BEGIN:VEVENT
UID:74@sac-saas.ch
DTSTART;TZID=Europe/Zurich;VALUE=DATE:20230103
DTEND;TZID=Europe/Zurich;VALUE=DATE:20230104
DTSTAMP:20230102T162758Z
URL:https://sac-saas.ch/events/skitechnik-basic/
SUMMARY:Skitechnik Basic / Anmeldung ab 06.11.2022
DESCRIPTION:Skitechnik Basic\n\nWenn du dich noch nicht ganz sicher fühlst
  neben der Piste\, oder die Abfahrt die grössere Challenge ist als der Au
 fstieg ist dieser Kurs ideal für dich. Wir werden gemeinsam an der Grundp
 osition feilen und die verschiedenen Kernelemente der Skitechnik erlernen.
  Ziel ist es dein Selbstvertrauen zu steigern damit du diesen Winter den w
 eissen Rausch noch mehr geniessen kannst.\n\nDer Kursort wird kurz davor k
 ommuniziert\, damit haben wir die grösstmögliche Wahrscheinlichkeit idea
 le Verhältnisse vorzufinden.\n\n&nbsp\;\n\nDie Verhältnisse sind am best
 en im Val d'Anniviers. Wir treffen uns in Grimentz bei den Bergbahnen um 8
 :50. Ich habe in meinem Auto leider nur noch Platz für zwei. Vielleicht h
 at Dennis oder Sabine ein grösseres Auto??? Ich nehme Freddy um 7:10 in S
 aas-Fee bei der Post mit\, und dann schauen wir wie weiter... Dennis und S
 abine könnt ihr mich kurz anrufen wie wir uns am besten organisieren kön
 nen. Danke vielmals\, ich freue mich auf einen lehrreichen Tag im Schnee!!
 !\n\n&nbsp\;\n\nGanz liebe Grüsse\n\nGabriel Voide\n\n079 698 60 65\n\n\n
 \nAnmeldung möglich ab:\n06.11.2022\, 07:00\n\n\nSchwierigkeit\nstabiler 
 Fahrstil auf der Skipiste\n\n\nEckdaten\nAusbildungstag\n\n\nAusrüstung\n
 klassische Skitourenausrüstung\, inkl. Felle\, Harscheisen\, LVS\, Schauf
 el\, Sonde. Magic Pass!!!!\n\n\nTreffpunkt\n8:50 Talstation Bergbahnen Gri
 mentz\n\n\nTeilnehmerzahl\n7\n\n\n\n&nbsp\;
CATEGORIES:Ausbildungskurs,SAC Tour
END:VEVENT
BEGIN:VTIMEZONE
TZID:Europe/Zurich
X-LIC-LOCATION:Europe/Zurich
BEGIN:STANDARD
DTSTART:20221030T020000
TZOFFSETFROM:+0200
TZOFFSETTO:+0100
TZNAME:CET
END:STANDARD
END:VTIMEZONE
END:VCALENDAR