BEGIN:VCALENDAR
VERSION:2.0
PRODID:-//wp-events-plugin.com//7.2.3.1//EN
TZID:Europe/Zurich
X-WR-TIMEZONE:Europe/Zurich
BEGIN:VEVENT
UID:265@sac-saas.ch
DTSTART;TZID=Europe/Zurich;VALUE=DATE:20240202
DTEND;TZID=Europe/Zurich;VALUE=DATE:20240203
DTSTAMP:20240201T180403Z
URL:https://sac-saas.ch/events/skitechnik-basic-2024-anmeldung-ab-02-01-20
 24/
SUMMARY:Skitechnik Basic / Anmeldung ab 02.01.2024
DESCRIPTION:Skitechnik Basic\n\nWir erlernen an diesem Tag die stabile Grun
 dposition\, Parallelschwung\, Kurzschwung und viele weitere kleine Hilfen 
 um die Abfahrt genussreicher zu gestalten.\n\nUm die Chance auf schöne Sc
 hneeverhältnisse zu optimieren\, werden ich nur kurz vor dem Ausbildungst
 ag den Treffpunkt kommunizieren.\n\nIch freue mich auf viele erfolgreiche 
 Schwünge im Schnee\n\nVoide Gabriel\n\n079 698 60 65\n\n\n\nAnmeldung mö
 glich ab:\n02.01.2024\n\n\nSchwierigkeit\nAusbildungstag\n\n\nEckdaten\n\n
 \n\nAusrüstung\nkomplette Skitourenausrüstung\n\n\nTreffpunkt\nWir treff
 en uns um 08:30 an der Talstation in Wiler (Lötschental)\nTouren-Ausrüst
 ung komplett (Ski\, Fell\, Harscheisen\, LVS\, Schaufel\, Sonde usw.)\nBei
  Claudio (078 765 13 91) hat es noch 2 Plätze ab Saas-Almagell im Auto\n\
 n&nbsp\;\n\n\nTeilnehmerzahl\n7\n\n\n\n&nbsp\;
CATEGORIES:SAC Tour
END:VEVENT
BEGIN:VTIMEZONE
TZID:Europe/Zurich
X-LIC-LOCATION:Europe/Zurich
BEGIN:STANDARD
DTSTART:20231029T020000
TZOFFSETFROM:+0200
TZOFFSETTO:+0100
TZNAME:CET
END:STANDARD
END:VTIMEZONE
END:VCALENDAR