BEGIN:VCALENDAR
VERSION:2.0
PRODID:-//wp-events-plugin.com//7.2.3.1//EN
TZID:Europe/Zurich
X-WR-TIMEZONE:Europe/Zurich
BEGIN:VEVENT
UID:421@sac-saas.ch
DTSTART;TZID=Europe/Zurich;VALUE=DATE:20250108
DTEND;TZID=Europe/Zurich;VALUE=DATE:20250109
DTSTAMP:20250107T164952Z
URL:https://sac-saas.ch/events/skitechnik-anmeldung-ab-08-12-2024/
SUMMARY:Skitechnik / Anmeldung ab 08.12.2024
DESCRIPTION:Skitechnikkurs SAC Saas 2025\n\nWir treffen uns morgen um 9:00 
 bei der Talstation Lauchernalp in Wiler im Lötschental. Es wird am Morgen
  noch schneien\, also unbedingt Skibrille und witterungsfeste Kleider mitn
 ehmen!! Da ich eine Teilnehmerin in Leuk Bahnhof abholen werde\, werden wi
 r erst kurz vor 9:00 eintreffen. Die Teilnehmer\, welche keinen Magicpass 
 besitzen\, sollen schon vorneweg an der Kasse eine Tageskarte kaufen. Die 
 Bahn auf die Lauchernalp fährt 9:05.\n\nIch freue mich sehr auf einen spa
 nnenden Tag mit Neuschnee!!!\n\nHerzliche Grüsse\n\nVoide Gabriel\n\nDa d
 ie Wettervorhersagen sehr unbeständig sind\, kann ich erst morgen Abend e
 uch mitteilen wo der Kurs stattfinden wird. Danke für euer Verständnis.\
 n\nZiel des Kurses ist\, dass jeder Teilnehmer mit mehr Sicherheit und vor
  allem mit noch mehr Freude seine Schwünge in den Schnee ziehen kann.\n\n
 Wir werden am Morgen kurz die Basics auf der Piste wiederholen und dann ne
 ben der Piste versuchen eine solide Technik zu erlangen.\n\nVom Skigebiet 
 aus werden wir kurze Aufstiege unternehmen um schöne Freeride Abfahrten z
 u erreichen.\n\nUm die bestmöglichen Verhältnisse vorzufinden\, werde ic
 h den Kursort erst 1-2 Tage vor dem davor auf dieser Seite bekanntgeben.\n
 \nBei Fragen könnt ihr mich ohne weiteres telefonisch kontaktieren.\n\nIc
 h freue mich auf einen lehrreichen Tag im Schnee\n\nGabriel\n\n079 698 60 
 65\n\n&nbsp\;\n\n\n\n\n\n\n\nSchwierigkeit\nAusbildungstag\n\n\nEckdaten\n
 Freeride-Touren\, kurze Aufstiege - lange Abfahrten\n\n\nAusrüstung\nkomp
 lette Skitourenausrüstung\, inkl. Felle\, LVS\, Schaufel und Sonde\n\n\nT
 reffpunkt\nwird 1-2 Tage vor dem Kurs hier kommuniziert\n\n\nTeilnehmerzah
 l\n8\n\n\n\n&nbsp\;
CATEGORIES:SAC Tour
END:VEVENT
BEGIN:VTIMEZONE
TZID:Europe/Zurich
X-LIC-LOCATION:Europe/Zurich
BEGIN:STANDARD
DTSTART:20241027T020000
TZOFFSETFROM:+0200
TZOFFSETTO:+0100
TZNAME:CET
END:STANDARD
END:VTIMEZONE
END:VCALENDAR