BEGIN:VCALENDAR
VERSION:2.0
PRODID:-//wp-events-plugin.com//7.2.3.1//EN
TZID:Europe/Zurich
X-WR-TIMEZONE:Europe/Zurich
BEGIN:VEVENT
UID:75@sac-saas.ch
DTSTART;TZID=Europe/Zurich;VALUE=DATE:20230104
DTEND;TZID=Europe/Zurich;VALUE=DATE:20230105
DTSTAMP:20230103T053817Z
URL:https://sac-saas.ch/events/skitechnik-advanced/
SUMMARY:kurzfristig 2 Plätze frei-Skitechnik Advanced / Anmeldung ab 30.11
 .2022
DESCRIPTION:Skitechnik Advanced\n\nDeine Skitechnik verfestigen\, Schwünge
  variieren\, verhalten bei verschiedenen Neigungen und den grösstmöglich
 en Spass auf dem Schnee zu haben\, genau das sind unsere Ziele dieses Tage
 s!!\n\nGemeinsam feilen wir an deiner Technik um noch kraftsparender die A
 bfahrten zu geniessen.\n\nDer Kursort wird kurz davor kommuniziert\, damit
  haben wir die höchste Wahrscheinlichkeit ideale Verhältnisse vorzufinde
 n.\n\nDie Verhältnisse sind am besten im Val d'Anniviers. Wir treffen uns
  in Grimentz bei den Bergbahnen um 8:50. Wer kann ein Auto nehmen??? Ich h
 abe leider nur ein kleines Auto 2-3 Personen. Wirtelefonieren heute Abend 
 um 18:00  Danke vielmals\, ich freue mich auf einen lehrreichen Tag im Sc
 hnee!!!\n\n&nbsp\;\n\nGanz liebe Grüsse\n\nGabriel Voide\n\n079 698 60 65
 \n\n\n\nAnmeldung möglich ab:\n30.11.2022\, 07:00\n\n\nSchwierigkeit\nErf
 ahrung im Tiefschneefahren\n\n\nEckdaten\nAusbildungstag\n\n\nAusrüstung\
 nklassische Skitourenausrüstung\, Felle\, LVS\, Schaufel\, Sonde\, kleine
  Zwischenverpflegung\n\n\nTreffpunkt\n8:50 Bergbahnen Grimentz\n\n\nTeilne
 hmerzahl\n7\n\n\n\n&nbsp\;
CATEGORIES:Ausbildungskurs,SAC Tour
END:VEVENT
BEGIN:VTIMEZONE
TZID:Europe/Zurich
X-LIC-LOCATION:Europe/Zurich
BEGIN:STANDARD
DTSTART:20221030T020000
TZOFFSETFROM:+0200
TZOFFSETTO:+0100
TZNAME:CET
END:STANDARD
END:VTIMEZONE
END:VCALENDAR