BEGIN:VCALENDAR
VERSION:2.0
PRODID:-//wp-events-plugin.com//7.2.3.1//EN
TZID:Europe/Zurich
X-WR-TIMEZONE:Europe/Zurich
BEGIN:VEVENT
UID:266@sac-saas.ch
DTSTART;TZID=Europe/Zurich;VALUE=DATE:20240203
DTEND;TZID=Europe/Zurich;VALUE=DATE:20240204
DTSTAMP:20240202T174034Z
URL:https://sac-saas.ch/events/skitechnik-advanced-2024-anmeldung-ab-03-01
 -2024/
SUMMARY:Skitechnik Advanced / Anmeldung ab 03.01.2024
DESCRIPTION:Skitechnik Advanced\n\nDas Verfeiner deiner Skitechnik steht im
  Zentrum dieses Tages.\n\nLesen der verschiedenen Schneequalitäten\, Anpa
 ssen des Fahrtempos\, Ausnützen des Geländes und viele weitere kleine Ti
 pps und Tricks versuchen wir gemeinsam zu erarbeiten.\n\nUm die Chance auf
  gute Schneequalität zu erhöhen\, werde ich den Treffpunkt erst kurz vor
  dem Kurs kommunizieren.\n\nIch freue mich auf viele rassige Schwünge im 
 Schnee!\n\nVoide Gabriel\n\n079 698 60 65\n\n&nbsp\;\n\n&nbsp\;\n\n\n\nAnm
 eldung möglich ab:\n03.01.2024\n\n\nSchwierigkeit\nAusbildungstag\n\n\nEc
 kdaten\n\n\n\nAusrüstung\nkomplette Skitourenausrüstung inkl. Harscheise
 n und kleiner Lunch\n\n\nTreffpunkt\n8:20 Talstation Lauchernalp\, Wiler\,
  Lötschental\n\n\nTeilnehmerzahl\n7\n\n\n\n&nbsp\;
CATEGORIES:SAC Tour
END:VEVENT
BEGIN:VTIMEZONE
TZID:Europe/Zurich
X-LIC-LOCATION:Europe/Zurich
BEGIN:STANDARD
DTSTART:20231029T020000
TZOFFSETFROM:+0200
TZOFFSETTO:+0100
TZNAME:CET
END:STANDARD
END:VTIMEZONE
END:VCALENDAR