BEGIN:VCALENDAR
VERSION:2.0
PRODID:-//wp-events-plugin.com//7.2.3.1//EN
TZID:Europe/Zurich
X-WR-TIMEZONE:Europe/Zurich
BEGIN:VEVENT
UID:390@sac-saas.ch
DTSTART;TZID=Europe/Zurich;VALUE=DATE:20250406
DTEND;TZID=Europe/Zurich;VALUE=DATE:20250407
DTSTAMP:20250402T182116Z
URL:https://sac-saas.ch/events/signalhorn/
SUMMARY:Abgesagt: Signalhorn/Anmeldung ab 06.03.25
DESCRIPTION:Lohnende Skitour in den Schattenbergen mit toller Aussicht auf 
 das Rhonetal und die Bietschhornpyramide.\n\n\n\n\n\n\n\nSchwierigkeit\nWS
 +\n\n\nEckdaten\n↑780Hm ↓ 1700Hm\n\n\nAusrüstung\nSkitourenausrüstun
 g\n\n\nTreffpunkt\nfolgt\n\n\nTeilnehmerzahl\n6 inkl. TL\n\n\n\n&nbsp\;
CATEGORIES:SAC Tour
END:VEVENT
BEGIN:VTIMEZONE
TZID:Europe/Zurich
X-LIC-LOCATION:Europe/Zurich
BEGIN:DAYLIGHT
DTSTART:20250330T030000
TZOFFSETFROM:+0100
TZOFFSETTO:+0200
TZNAME:CEST
END:DAYLIGHT
END:VTIMEZONE
END:VCALENDAR