BEGIN:VCALENDAR
VERSION:2.0
PRODID:-//wp-events-plugin.com//7.2.3.1//EN
TZID:Europe/Zurich
X-WR-TIMEZONE:Europe/Zurich
BEGIN:VEVENT
UID:130@sac-saas.ch
DTSTART;TZID=Europe/Zurich;VALUE=DATE:20230114
DTEND;TZID=Europe/Zurich;VALUE=DATE:20230115
DTSTAMP:20230104T052129Z
URL:https://sac-saas.ch/events/schweizermeisterschaften-im-eisklettern/
SUMMARY:Ice Climbing Schweizermeisterschaften Samstag\, 14.Januar 2023\, He
 lfer voll\,danke!
DESCRIPTION:Bei den diesjährigen Schweizermeisterschaften im Ice Climbing 
 in Saas-Fee helfen wir vom SAC Saas wieder als Mitorganisator mit\, dass d
 er Anlass erfolgreich über die Bühne geht.\nWir stellen dabei das Wettka
 mpfbüro\, Sicherungsteam\, Jury und Isolation.\nJeder Helfer profitiert v
 on folgenden Vorteilen (Anmeldung und Abholung der Sachen im Wettkampfbür
 o bei Marc B.)\nPersonalisierter 2-Tagespass für den Ice-Climbing World C
 up vom 27.-28.Januar in Saas-Fee\, Essen und Getränkebon\, Ausfahrtsticke
 t für das Parkhaus\, Einladung für den Helferevent\, SAC Saas Helferbonu
 s\nZudem erhalten wir vom Verein Ice Climbing Saas-Fee 1000.- in die Kasse
  der JO-SAC Saas.\nWettkampfprogramm Samstag\, 14.Jan.2023\n09:00 – 10:0
 0 Einschreiben und Briefing\n10:00 – 16:00 Lead Qualifikation (3 Routen)
 \n18:00 – 20:00 Finale Lead\n20:30 – 21:00 Rangverkündigung\nHelferjo
 bs\n1. Schicht (Quali) Sicherungsteam: 09.30 – 16:30 (6 Personen (3 Sich
 ern\, 3 Pause)\nAlex Mittner\, Michael Steiner\, Beat Burgener\, Pascal Fe
 rcher\, Michi Imboden\, Mario Andenmatten \n2. Schicht (Finale) Sicherung
 steam: 18.00 – 20:00 (3 Personen (2 Sichern\, 1 Reserve)\nDiana Zurbrigg
 en\, Samuel Anthamatten\, Klaus Burgener\nJury &amp\; inkl. Zeitmessung (g
 anzer Tag\, 3 Personen\, Finale dann nur 2)\, ab 9-20Uhr. \nMaurice Lehner
 \, Dominic Anthamatten\, Eelco Jansen\nIsolation 1 Person: 18-20Uhr:\nStep
 han Wyer\nWettkampfoffice/Support:\nMarc Briggeler\nMitbringen (Sicherungs
 team und Jury): Klettergurt\, Sicherungsmaterial\, Sichern mit Halbautomat
 en ist erlaubt\, Helm\, Steigeisen und Warme Kleider\nBei Fragen - Kontakt
  Marc Briggeler 077 529 29 77\n
CATEGORIES:Clubanlass,SAC Tour
END:VEVENT
BEGIN:VTIMEZONE
TZID:Europe/Zurich
X-LIC-LOCATION:Europe/Zurich
BEGIN:STANDARD
DTSTART:20221030T020000
TZOFFSETFROM:+0200
TZOFFSETTO:+0100
TZNAME:CET
END:STANDARD
END:VTIMEZONE
END:VCALENDAR