BEGIN:VCALENDAR
VERSION:2.0
PRODID:-//wp-events-plugin.com//7.2.3.1//EN
TZID:Europe/Zurich
X-WR-TIMEZONE:Europe/Zurich
BEGIN:VEVENT
UID:60@sac-saas.ch
DTSTART;TZID=Europe/Zurich;VALUE=DATE:20230226
DTEND;TZID=Europe/Zurich;VALUE=DATE:20230227
DTSTAMP:20230121T194125Z
URL:https://sac-saas.ch/events/schneeschutour-simplon-spitzhorli-simplon/
SUMMARY:Schneeschutour Simplon - Spitzhorli - Simplon / Anmeldung ab 26.01.
 2023
DESCRIPTION:Start beim Restaurant Monte Leone(1991). Dem Trail hoch zum Hop
 schusee und weiter hoch zum Punkt 2466. Von hier hoch zur Üssere Nanzlick
 e (2601) und anschliessend zum Gipfelkreuz vom Spitzhorli (2736). Der Abst
 ieg dann über die Aufstiegsroute.\n\nFalls sich ein Tourenleiter freiwill
 ig meldet\, können auch welche mit der Skitourenausrüstung mitkommen!!!\
 n\n\n\nAnmeldung möglich ab:\n26.01.2023\, 07:00\n\n\nSchwierigkeit\nWT 3
 \n\n\nEckdaten\n ↑ 820 Hm  ↓ 820 Hm -&gt\; 4  h\n\n\nAusrüstung\nS
 chneeschuhausrüstung\, Winterkleider\, Verpflegung aus dem Rucksack\n\n\n
 Treffpunkt\nTreffpunkt Bahnhofplatz Visp  8.00 Uhr\n\n\nTeilnehmerzahl\n1
 2\n\n\n\n&nbsp\;
CATEGORIES:SAC Tour,Schneeschuhtour
END:VEVENT
BEGIN:VTIMEZONE
TZID:Europe/Zurich
X-LIC-LOCATION:Europe/Zurich
BEGIN:STANDARD
DTSTART:20221030T020000
TZOFFSETFROM:+0200
TZOFFSETTO:+0100
TZNAME:CET
END:STANDARD
END:VTIMEZONE
END:VCALENDAR