BEGIN:VCALENDAR
VERSION:2.0
PRODID:-//wp-events-plugin.com//7.2.3.1//EN
TZID:Europe/Zurich
X-WR-TIMEZONE:Europe/Zurich
BEGIN:VEVENT
UID:513@sac-saas.ch
DTSTART;TZID=Europe/Zurich;VALUE=DATE:20260302
DTEND;TZID=Europe/Zurich;VALUE=DATE:20260303
DTSTAMP:20260222T154707Z
URL:https://sac-saas.ch/events/schneeschuhwanderung-im-saas-anmeldung-ab-0
 1-01-26/
SUMMARY:Schneeschuhwanderung im Saas / Anmeldung ab 01.01.26
DESCRIPTION:Gemütliche Schneeschuhwanderung mit Fondue im Saas\, je nach S
 chneeverhältnissen.\n\nStart Saas Balen\, hoch nach Heimischgarten. Nach 
 einer Pause geht es durch den Tewald nach Saas Grund\n\n\n\nAnmeldung ab:\
 n01.01.26\n\n\nSchwierigkeit\nLeicht\, Kaffeetasse\n\n\nEckdaten\nMax. 650
 Hm\, 5 Stunden\n\n\nAusrüstung\nSchneeschuhausrüstung\, LVS\, Sonde\, S
 chaufel\n\n\nTreffpunkt\nSaas Balen\, Dorf\, 12:15 Uhr\n\n\nTeilnehmerzahl
 \n12\n\n\n\n&nbsp\;
CATEGORIES:SAC Tour,Schneeschuhtour
END:VEVENT
BEGIN:VTIMEZONE
TZID:Europe/Zurich
X-LIC-LOCATION:Europe/Zurich
BEGIN:STANDARD
DTSTART:20251026T020000
TZOFFSETFROM:+0200
TZOFFSETTO:+0100
TZNAME:CET
END:STANDARD
END:VTIMEZONE
END:VCALENDAR