BEGIN:VCALENDAR
VERSION:2.0
PRODID:-//wp-events-plugin.com//7.2.3.1//EN
TZID:Europe/Zurich
X-WR-TIMEZONE:Europe/Zurich
BEGIN:VEVENT
UID:32@sac-saas.ch
DTSTART;TZID=Europe/Zurich;VALUE=DATE:20230212
DTEND;TZID=Europe/Zurich;VALUE=DATE:20230213
DTSTAMP:20230210T052552Z
URL:https://sac-saas.ch/events/schneeschuhtour-zermatt/
SUMMARY:Schneeschuhtour Zermatt Glacier Trail / Anmeldung ab 10.01.2023
DESCRIPTION:Während dieser Schneeschuhtour werden wir ein Teil von der Som
 merwanderweg\, den Gletschertrail\, folgen. Bei gute Bedingungen werden wi
 r ein Teil vom restlichen Gletscher sehen können. Start von Trockener Ste
 g aus bis auf Furgg oder Schwarzsee\n\n\n\nAnmeldung möglich ab:\n10.01.2
 023\, 07:00\n\n\nSchwierigkeit\nWT3\n\n\nEckdaten\n ↑ 100 Hm  ↓ 600 
 Hm -&gt\; 2-3 h\n\n\nAusrüstung\nWinterausrüstung inkl. Lawine-Ausrüstu
 ng\n\n\nTreffpunkt\nZermatt Bahnhof\n\n\nTeilnehmerzahl\n6\n\n\n\n&nbsp\;
CATEGORIES:SAC Tour,Schneeschuhtour
END:VEVENT
BEGIN:VTIMEZONE
TZID:Europe/Zurich
X-LIC-LOCATION:Europe/Zurich
BEGIN:STANDARD
DTSTART:20221030T020000
TZOFFSETFROM:+0200
TZOFFSETTO:+0100
TZNAME:CET
END:STANDARD
END:VTIMEZONE
END:VCALENDAR