BEGIN:VCALENDAR
VERSION:2.0
PRODID:-//wp-events-plugin.com//7.2.3.1//EN
TZID:Europe/Zurich
X-WR-TIMEZONE:Europe/Zurich
BEGIN:VEVENT
UID:78@sac-saas.ch
DTSTART;TZID=Europe/Zurich;VALUE=DATE:20230114
DTEND;TZID=Europe/Zurich;VALUE=DATE:20230116
DTSTAMP:20221215T220653Z
URL:https://sac-saas.ch/events/schneeschuhtour-wildspitz/
SUMMARY:Schneeschuh auf die Wildspitz\, den höchsten Zugerberg / Anmeldung
  ab 14.12.2022
DESCRIPTION:&nbsp\;\n\n\n\nAnmeldung möglich ab:\n14.12.2022\, 07:00\n\n\n
 Schwierigkeit\nWT3\n\n\nEckdaten\n 1.Tag: ↑ 800Hm/Zeit ca.4 Std.   2.
 Tag:↑100Hm/ ↓680 Hm /Zeit ca.5 Std.\n\n\nAusrüstung\n Schneeschuh Au
 srüstung\, LVS\, Schaufel\, Sonde\, Picknick für 2 Tage\n\n\nTreffpunkt\
 nVisp ab 06:57 Uhr via Olten - Arth-Goldau - Sattel-Aegeri / Rückfahrt ab
  Zugerberg ca. 15:56 Uhr\n\n\nTeilnehmerzahl\n10\n\n\n\nDie Rundumsicht au
 f dem 1579m hohen Wildspitz muss man sich redlich verdienen. Den höchsten
  Zuger erreicht man nämlich nur mit Muskelkraft. Die 2 tägige Tour begin
 nen wir bei Sattel-Ägeri und spätestens bei unserem Zwischenhalt bei der
  Alpe Halsegg können wir schon erahnen welche Aussicht uns bei unserem Zi
 el erwartet. Am 2.Tag laufen wir hinüber zum Gripen der Abrissstelle des 
 Goldauer Bergsturzes. Weiterhin beeindruckt uns die Weite hier oben\, bevo
 r wir uns dann auf den Abstieg zum Zugerberg machen. Von hier fahren wir m
 it der Standseilbahn und dem Bus nach Zug Bahnhof um die Heimreise anzutre
 ten.\n\nÜbernachtung im Berggasthaus Wildspitz 2er und 5er Zimmer/Frühst
 ück CHF 62.- /75.-p.P. Nachtessen à la carte.\n\nIch freue mich mit Euch
  in dieser sehr schönen Gegend unterwegs zu sein.
CATEGORIES:SAC Tour,Schneeschuhtour
END:VEVENT
BEGIN:VTIMEZONE
TZID:Europe/Zurich
X-LIC-LOCATION:Europe/Zurich
BEGIN:STANDARD
DTSTART:20221030T020000
TZOFFSETFROM:+0200
TZOFFSETTO:+0100
TZNAME:CET
END:STANDARD
END:VTIMEZONE
END:VCALENDAR