BEGIN:VCALENDAR
VERSION:2.0
PRODID:-//wp-events-plugin.com//7.2.3.1//EN
TZID:Europe/Zurich
X-WR-TIMEZONE:Europe/Zurich
BEGIN:VEVENT
UID:58@sac-saas.ch
DTSTART;TZID=Europe/Zurich;VALUE=DATE:20230122
DTEND;TZID=Europe/Zurich;VALUE=DATE:20230123
DTSTAMP:20230117T191424Z
URL:https://sac-saas.ch/events/schneeschuhtour-oberwald-rhonequelle-oberwa
 ld__trashed/
SUMMARY:Schneeschuhtour Oberwald - Rhonequelle - Oberwald / Anmeldung ab 21
 .12.2022
DESCRIPTION:Nach einer Zusatzschleife im Ahorliwald in Oberwald gehts über
  die Rottenbrücke hoch hinauf zum Punkt 1507 und anschliessend zum Restau
 rant Rhonequelle\, wo wir das Mittagessen einnehmen (bei der Anmeldung ang
 eben: Menu oder Fondue !!). Der Abstieg zurück nach Oberwald erfolgt übe
 r die Furkastrasse.\n\n\n\nAnmeldung möglich ab:\n21.12.2022\, 07:00\n\n\
 nSchwierigkeit\nleicht\n\n\nEckdaten\n ↑200 Hm  ↓ 200Hm -&gt\; 3 h\n
 \n\nAusrüstung\nSchneeschuhausrüstung\, Winterkleider\n\n\nTreffpunkt\nw
 ird später bekannt gegeben.\n\n\nTeilnehmerzahl\n12\n\n\n\n&nbsp\;
CATEGORIES:SAC Tour,Schneeschuhtour
END:VEVENT
BEGIN:VTIMEZONE
TZID:Europe/Zurich
X-LIC-LOCATION:Europe/Zurich
BEGIN:STANDARD
DTSTART:20221030T020000
TZOFFSETFROM:+0200
TZOFFSETTO:+0100
TZNAME:CET
END:STANDARD
END:VTIMEZONE
END:VCALENDAR