BEGIN:VCALENDAR
VERSION:2.0
PRODID:-//wp-events-plugin.com//7.2.3.1//EN
TZID:Europe/Zurich
X-WR-TIMEZONE:Europe/Zurich
BEGIN:VEVENT
UID:564@sac-saas.ch
DTSTART;TZID=Europe/Zurich;VALUE=DATE:20260102
DTEND;TZID=Europe/Zurich;VALUE=DATE:20260103
DTSTAMP:20251123T185321Z
URL:https://sac-saas.ch/events/schneeschuhtour-night-anmeldung-ab-15-12-20
 25/
SUMMARY:Schneeschuhtour Night / Anmeldung ab 15.12.2025
DESCRIPTION:&nbsp\;\n\n\n\nAnmeldung ab:\n02.01.2026\n\n\nSchwierigkeit\nWS
 \n\n\nEckdaten\n350Hm rauf/200Hm runter\n\n\nAusrüstung\nSchneeschuhe\, S
 töcke\, Stirnlampe\, Kleidung zum Wechseln\n\n\nTreffpunkt\nwird später 
 bekannt gegeben\n\n\nTeilnehmerzahl\n9 inkl. Führer\n\n\n\n&nbsp\;
CATEGORIES:SAC Tour,Schneeschuhtour
END:VEVENT
BEGIN:VTIMEZONE
TZID:Europe/Zurich
X-LIC-LOCATION:Europe/Zurich
BEGIN:STANDARD
DTSTART:20251026T020000
TZOFFSETFROM:+0200
TZOFFSETTO:+0100
TZNAME:CET
END:STANDARD
END:VTIMEZONE
END:VCALENDAR