BEGIN:VCALENDAR
VERSION:2.0
PRODID:-//wp-events-plugin.com//7.2.3.1//EN
TZID:Europe/Zurich
X-WR-TIMEZONE:Europe/Zurich
BEGIN:VEVENT
UID:99@sac-saas.ch
DTSTART;TZID=Europe/Zurich;VALUE=DATE:20230211
DTEND;TZID=Europe/Zurich;VALUE=DATE:20230212
DTSTAMP:20230204T063230Z
URL:https://sac-saas.ch/events/schneeschuhtour-moosalp/
SUMMARY:Schneeschuhtour Moosalp / Anmeldung ab 11.01.2023
DESCRIPTION:&nbsp\;\n\n\n\nAnmeldung möglich ab:\n11.01.2023\, 07:00\n\n\n
 Schwierigkeit\nWT2\n\n\nEckdaten\n ↑  ↓ ca. 300 hm\n\n\nAusrüstung\
 nnormale SS-Ausrüstung\, Verpflegung aus dem Rucksack\n\n\nTreffpunkt\nAb
 fahrt Bus Visp 10.14 Uhr\, Abfahrt Bus Stalden Bahnhof 10.31 Uhr\n\n\nTeil
 nehmerzahl\n10\n\n\n\n&nbsp\;
CATEGORIES:SAC Tour,Schneeschuhtour
END:VEVENT
BEGIN:VTIMEZONE
TZID:Europe/Zurich
X-LIC-LOCATION:Europe/Zurich
BEGIN:STANDARD
DTSTART:20221030T020000
TZOFFSETFROM:+0200
TZOFFSETTO:+0100
TZNAME:CET
END:STANDARD
END:VTIMEZONE
END:VCALENDAR