BEGIN:VCALENDAR
VERSION:2.0
PRODID:-//wp-events-plugin.com//7.2.3.1//EN
TZID:Europe/Zurich
X-WR-TIMEZONE:Europe/Zurich
BEGIN:VEVENT
UID:59@sac-saas.ch
DTSTART;TZID=Europe/Zurich;VALUE=DATE:20230205
DTEND;TZID=Europe/Zurich;VALUE=DATE:20230206
DTSTAMP:20221210T120551Z
URL:https://sac-saas.ch/events/schneeschuhtour-kuehboden-bettmeralp-rieder
 alp/
SUMMARY:Schneeschuhtour Kühboden - Bettmeralp - Riederalp / Anmeldung ab 0
 5.01.2022
DESCRIPTION:Der Start erfolgt auf Kühboden (2215). Von hier gehts zur Bett
 merhütte und dann weiter zur Bettmeralp. Kurz hinter dem Dorf steigen wir
  hoch zum Sendermasten und anschliessend dem Waldrand entlang hinunter zur
  Riederalp.\n\n\n\nAnmeldung möglich ab:\n05.01.2023\, 07:00\n\n\nSchwier
 igkeit\nleicht\n\n\nEckdaten\n ↑ 300 Hm  ↓ 580 Hm -&gt\; 3 h\n\n\nAu
 srüstung\nSchneeschuhausrüstung\, Winterkleider\, Verpflegung aus dem Ru
 cksack\n\n\nTreffpunkt\nerfolgt später\n\n\nTeilnehmerzahl\n12\n\n\n\n&nb
 sp\;
CATEGORIES:SAC Tour,Schneeschuhtour
END:VEVENT
BEGIN:VTIMEZONE
TZID:Europe/Zurich
X-LIC-LOCATION:Europe/Zurich
BEGIN:STANDARD
DTSTART:20221030T020000
TZOFFSETFROM:+0200
TZOFFSETTO:+0100
TZNAME:CET
END:STANDARD
END:VTIMEZONE
END:VCALENDAR